BEGIN:VCALENDAR
VERSION:2.0
PRODID:-//hacksw/handcal//NONSGML v1.0//EN
CALSCALE:GREGORIAN
BEGIN:VEVENT
UID:69ed0b6647429
DTSTAMP:20260425T184350Z
DESCRIPTION:[W] Ohio Wesleyan University Softball at KenyonW 10-1Streaming Video: https://www.northcoastnetwork.com/kenyon/?B=943444 https://www.battlingbishops.com/calendar.aspx?game_id=8770&amp\;sport_id=13
SUMMARY:Ohio Wesleyan University Softball at Kenyon
DTSTART:20240504T190000Z
DTEND:20240504T210000Z
END:VEVENT
END:VCALENDAR
