BEGIN:VCALENDAR
VERSION:2.0
PRODID:-//hacksw/handcal//NONSGML v1.0//EN
CALSCALE:GREGORIAN
BEGIN:VEVENT
UID:69e85af9472d3
DTSTAMP:20260422T052201Z
DESCRIPTION:[N] Ohio Wesleyan University Softball vs Adrian ppd.\, forecastStreaming Video: https://portal.stretchinternet.com/owu/ For more information: https://www.battlingbishops.com/calendar.aspx?id=7535
SUMMARY:Ohio Wesleyan University Softball vs Adrian
DTSTART:20220327T170000Z
DTEND:20220327T190000Z
END:VEVENT
END:VCALENDAR
