BEGIN:VCALENDAR
VERSION:2.0
PRODID:-//hacksw/handcal//NONSGML v1.0//EN
CALSCALE:GREGORIAN
BEGIN:VEVENT
UID:69e85af8f0cf3
DTSTAMP:20260422T052200Z
DESCRIPTION:[L] Ohio Wesleyan University Softball vs AlleghenyL 0-4Streaming Video: https://portal.stretchinternet.com/owu/ For more information: https://www.battlingbishops.com/calendar.aspx?id=7538
SUMMARY:Ohio Wesleyan University Softball vs Allegheny
DTSTART:20220403T170000Z
DTEND:20220403T190000Z
END:VEVENT
END:VCALENDAR
