BEGIN:VCALENDAR
VERSION:2.0
PRODID:-//hacksw/handcal//NONSGML v1.0//EN
CALSCALE:GREGORIAN
BEGIN:VEVENT
UID:69e85af915887
DTSTAMP:20260422T052201Z
DESCRIPTION:[W] Ohio Wesleyan University Softball vs HiramW 7-2Streaming Video: https://portal.stretchinternet.com/owu/ For more information: https://www.battlingbishops.com/calendar.aspx?id=7537
SUMMARY:Ohio Wesleyan University Softball vs Hiram
DTSTART:20220402T170000Z
DTEND:20220402T190000Z
END:VEVENT
END:VCALENDAR
