BEGIN:VCALENDAR
VERSION:2.0
PRODID:-//hacksw/handcal//NONSGML v1.0//EN
CALSCALE:GREGORIAN
BEGIN:VEVENT
UID:69e73aa5b9de0
DTSTAMP:20260421T085149Z
DESCRIPTION:[W] Ohio Wesleyan University Softball vs KenyonW 8-2Streaming Video: https://portal.stretchinternet.com/owu/ https://www.battlingbishops.com/calendar.aspx?game_id=8235&amp\;sport_id=13
SUMMARY:Ohio Wesleyan University Softball vs Kenyon
DTSTART:20230429T170000Z
DTEND:20230429T190000Z
END:VEVENT
END:VCALENDAR
