BEGIN:VCALENDAR
VERSION:2.0
PRODID:-//hacksw/handcal//NONSGML v1.0//EN
CALSCALE:GREGORIAN
BEGIN:VEVENT
UID:69eca6b0a9c35
DTSTAMP:20260425T113408Z
DESCRIPTION:Ohio Wesleyan University Softball vs NCAC tournament https://www.battlingbishops.com/calendar.aspx?game_id=8771&amp\;sport_id=13
SUMMARY:Ohio Wesleyan University Softball vs NCAC tournament
DTSTART:20240509
DTEND:20240509
END:VEVENT
END:VCALENDAR
