BEGIN:VCALENDAR
VERSION:2.0
PRODID:-//hacksw/handcal//NONSGML v1.0//EN
CALSCALE:GREGORIAN
BEGIN:VEVENT
UID:69ed4e909ce04
DTSTAMP:20260425T233024Z
DESCRIPTION:[L] Ohio Wesleyan University Softball vs OtterbeinL 7-8Streaming Video: https://www.northcoastnetwork.com/ohiowesleyan/ https://www.battlingbishops.com/calendar.aspx?game_id=8769&amp\;sport_id=13
SUMMARY:Ohio Wesleyan University Softball vs Otterbein
DTSTART:20240501T193000Z
DTEND:20240501T213000Z
END:VEVENT
END:VCALENDAR
