BEGIN:VCALENDAR
VERSION:2.0
PRODID:-//hacksw/handcal//NONSGML v1.0//EN
CALSCALE:GREGORIAN
BEGIN:VEVENT
UID:69ed4e89586cc
DTSTAMP:20260425T233017Z
DESCRIPTION:[W] Ohio Wesleyan University Softball vs OtterbeinW 5-3Streaming Video: https://www.northcoastnetwork.com/ohiowesleyan/ https://www.battlingbishops.com/calendar.aspx?game_id=8955&amp\;sport_id=13
SUMMARY:Ohio Wesleyan University Softball vs Otterbein
DTSTART:20240501T213000Z
DTEND:20240501T233000Z
END:VEVENT
END:VCALENDAR
