BEGIN:VCALENDAR
VERSION:2.0
PRODID:-//hacksw/handcal//NONSGML v1.0//EN
CALSCALE:GREGORIAN
BEGIN:VEVENT
UID:69eb9f8d703ae
DTSTAMP:20260424T165125Z
DESCRIPTION:[W] Ohio Wesleyan University Volleyball at BlufftonW 3-0Streaming Video: https://boxcast.tv/channel/azmhqmpypa7txv85vpz5 https://www.battlingbishops.com/calendar.aspx?game_id=8419&amp\;sport_id=22
SUMMARY:Ohio Wesleyan University Volleyball at Bluffton
DTSTART:20231014T200000Z
DTEND:20231014T220000Z
END:VEVENT
END:VCALENDAR
