BEGIN:VCALENDAR
VERSION:2.0
PRODID:-//hacksw/handcal//NONSGML v1.0//EN
CALSCALE:GREGORIAN
BEGIN:VEVENT
UID:69e971c879cf6
DTSTAMP:20260423T011136Z
DESCRIPTION:[L] Ohio Wesleyan University Volleyball at CalvinL 1-3Streaming Video: https://www.youtube.com/c/CalvinKnights
SUMMARY:Ohio Wesleyan University Volleyball at Calvin
DTSTART:20240907T170000Z
DTEND:20240907T190000Z
END:VEVENT
END:VCALENDAR
