BEGIN:VCALENDAR
VERSION:2.0
PRODID:-//hacksw/handcal//NONSGML v1.0//EN
CALSCALE:GREGORIAN
BEGIN:VEVENT
UID:69e840c627cfb
DTSTAMP:20260422T033014Z
DESCRIPTION:[L] Ohio Wesleyan University Volleyball at Carnegie MellonL 1-3Streaming Video: https://athletics.cmu.edu/watchlive
SUMMARY:Ohio Wesleyan University Volleyball at Carnegie Mellon
DTSTART:20240921T150000Z
DTEND:20240921T170000Z
END:VEVENT
END:VCALENDAR
