BEGIN:VCALENDAR
VERSION:2.0
PRODID:-//hacksw/handcal//NONSGML v1.0//EN
CALSCALE:GREGORIAN
BEGIN:VEVENT
UID:69e908b40a89b
DTSTAMP:20260422T174316Z
DESCRIPTION:[W] Ohio Wesleyan University Volleyball at DenisonW 3-2Streaming Video: https://www.northcoastnetwork.com/denison/
SUMMARY:Ohio Wesleyan University Volleyball at Denison
DTSTART:20241116T180000Z
DTEND:20241116T200000Z
END:VEVENT
END:VCALENDAR
