BEGIN:VCALENDAR
VERSION:2.0
PRODID:-//hacksw/handcal//NONSGML v1.0//EN
CALSCALE:GREGORIAN
BEGIN:VEVENT
UID:69ead61835c36
DTSTAMP:20260424T023152Z
DESCRIPTION:[L] Ohio Wesleyan University Volleyball at DePauwL 2-3Streaming Video: https://depauwtigers.com/sports/2022/8/5/depauw-video-player-2.aspx https://www.battlingbishops.com/calendar.aspx?game_id=8423&amp\;sport_id=22
SUMMARY:Ohio Wesleyan University Volleyball at DePauw
DTSTART:20231024T230000Z
DTEND:20231025T010000Z
END:VEVENT
END:VCALENDAR
