BEGIN:VCALENDAR
VERSION:2.0
PRODID:-//hacksw/handcal//NONSGML v1.0//EN
CALSCALE:GREGORIAN
BEGIN:VEVENT
UID:69ea8a3f06fbb
DTSTAMP:20260423T210815Z
DESCRIPTION:[W] Ohio Wesleyan University Volleyball at HiramW 3-1Streaming Video: https://vcloud.blueframetech.com/broadcast/embed/616748 https://www.battlingbishops.com/calendar.aspx?game_id=8424&amp\;sport_id=22
SUMMARY:Ohio Wesleyan University Volleyball at Hiram
DTSTART:20231028T170000Z
DTEND:20231028T190000Z
END:VEVENT
END:VCALENDAR
