BEGIN:VCALENDAR
VERSION:2.0
PRODID:-//hacksw/handcal//NONSGML v1.0//EN
CALSCALE:GREGORIAN
BEGIN:VEVENT
UID:69ea0d85de4fc
DTSTAMP:20260423T121605Z
DESCRIPTION:[L] Ohio Wesleyan University Volleyball at JuniataL 0-3Streaming Video: https://www.flovolleyball.tv/signup?redirect=/live/67650&utm_campaign=603574ohiowesleyanvsj&utm_medium=partner&utm_source=multiple&utm_content=signup&contract_id=0063m00000u4k10aaa&coverage_id=11183172&sp=&sp=conf-partner https://www.battlingbishops.com/calendar.aspx?game_id=8425&amp\;sport_id=22
SUMMARY:Ohio Wesleyan University Volleyball at Juniata
DTSTART:20231103T230000Z
DTEND:20231104T010000Z
END:VEVENT
END:VCALENDAR
