BEGIN:VCALENDAR
VERSION:2.0
PRODID:-//hacksw/handcal//NONSGML v1.0//EN
CALSCALE:GREGORIAN
BEGIN:VEVENT
UID:69ec261ed35c5
DTSTAMP:20260425T022534Z
DESCRIPTION:[W] Ohio Wesleyan University Volleyball at KenyonW 3-0Streaming Video: https://www.northcoastnetwork.com/kenyon/?B=597372 https://www.battlingbishops.com/calendar.aspx?game_id=8416&amp\;sport_id=22
SUMMARY:Ohio Wesleyan University Volleyball at Kenyon
DTSTART:20231007T150000Z
DTEND:20231007T170000Z
END:VEVENT
END:VCALENDAR
