BEGIN:VCALENDAR
VERSION:2.0
PRODID:-//hacksw/handcal//NONSGML v1.0//EN
CALSCALE:GREGORIAN
BEGIN:VEVENT
UID:69e821b79886c
DTSTAMP:20260422T011743Z
DESCRIPTION:[L] Ohio Wesleyan University Volleyball at MariettaL 0-3Streaming Video: https://boxcast.tv/view/volleyball-marietta-vs-ohio-wesleyan-pyjbv7wpwjm73mekk7gw?_gl=1*188gz1q*_gcl_au*MTc0ODk5MjU5MC4xNzI3MTE4NDIw*_ga*ODM4MTIzNTM0LjE3MTkzMzMyNjQ.*_ga_PXBBF7HVWQ*MTcyOTI2NzA5NC43NC4xLjE3MjkyNzIyNTUuMC4wLjA.
SUMMARY:Ohio Wesleyan University Volleyball at Marietta
DTSTART:20241109T000000Z
DTEND:20241109T020000Z
END:VEVENT
END:VCALENDAR
