BEGIN:VCALENDAR
VERSION:2.0
PRODID:-//hacksw/handcal//NONSGML v1.0//EN
CALSCALE:GREGORIAN
BEGIN:VEVENT
UID:69e873f82f5d7
DTSTAMP:20260422T070840Z
DESCRIPTION:Ohio Wesleyan University Volleyball at NCAC tournament quarterfinal
SUMMARY:Ohio Wesleyan University Volleyball at NCAC tournament quarterfinal
DTSTART:20241113T000000Z
DTEND:20241113T020000Z
END:VEVENT
END:VCALENDAR
