BEGIN:VCALENDAR
VERSION:2.0
PRODID:-//hacksw/handcal//NONSGML v1.0//EN
CALSCALE:GREGORIAN
BEGIN:VEVENT
UID:69e984e53b5a1
DTSTAMP:20260423T023309Z
DESCRIPTION:[L] Ohio Wesleyan University Volleyball at Wisconsin-WhitewaterL 0-3Streaming Video: https://www.ncaa.com/game/6348700
SUMMARY:Ohio Wesleyan University Volleyball at Wisconsin-Whitewater
DTSTART:20241122T000000Z
DTEND:20241122T020000Z
END:VEVENT
END:VCALENDAR
