BEGIN:VCALENDAR
VERSION:2.0
PRODID:-//hacksw/handcal//NONSGML v1.0//EN
CALSCALE:GREGORIAN
BEGIN:VEVENT
UID:69e79647325f5
DTSTAMP:20260421T152247Z
DESCRIPTION:[W] Ohio Wesleyan University Volleyball at WittenbergW 3-1Streaming Video: https://tigersportsnetwork.com/
SUMMARY:Ohio Wesleyan University Volleyball at Wittenberg
DTSTART:20240928T170000Z
DTEND:20240928T190000Z
END:VEVENT
END:VCALENDAR
