BEGIN:VCALENDAR
VERSION:2.0
PRODID:-//hacksw/handcal//NONSGML v1.0//EN
CALSCALE:GREGORIAN
BEGIN:VEVENT
UID:69e984dfcf4b9
DTSTAMP:20260423T023303Z
DESCRIPTION:[W] Ohio Wesleyan University Volleyball vs AlbionW 3-2Streaming Video: https://www.youtube.com/watch?v=dkJq821ccrc
SUMMARY:Ohio Wesleyan University Volleyball vs Albion
DTSTART:20240906T200000Z
DTEND:20240906T220000Z
END:VEVENT
END:VCALENDAR
