BEGIN:VCALENDAR
VERSION:2.0
PRODID:-//hacksw/handcal//NONSGML v1.0//EN
CALSCALE:GREGORIAN
BEGIN:VEVENT
UID:69e7d2fbbb4c6
DTSTAMP:20260421T194147Z
DESCRIPTION:[W] Ohio Wesleyan University Volleyball vs CapitalW 3-1Streaming Video: https://www.northcoastnetwork.com/ohiowesleyan/
SUMMARY:Ohio Wesleyan University Volleyball vs Capital
DTSTART:20240925T230000Z
DTEND:20240926T010000Z
END:VEVENT
END:VCALENDAR
