BEGIN:VCALENDAR
VERSION:2.0
PRODID:-//hacksw/handcal//NONSGML v1.0//EN
CALSCALE:GREGORIAN
BEGIN:VEVENT
UID:69e8ddeb4432f
DTSTAMP:20260422T144043Z
DESCRIPTION:[L] Ohio Wesleyan University Volleyball vs Case ReserveL 2-3Streaming Video: https://www.northcoastnetwork.com/ohiowesleyan/
SUMMARY:Ohio Wesleyan University Volleyball vs Case Reserve
DTSTART:20240914T193000Z
DTEND:20240914T213000Z
END:VEVENT
END:VCALENDAR
