BEGIN:VCALENDAR
VERSION:2.0
PRODID:-//hacksw/handcal//NONSGML v1.0//EN
CALSCALE:GREGORIAN
BEGIN:VEVENT
UID:69e8c9b713613
DTSTAMP:20260422T131431Z
DESCRIPTION:[W] Ohio Wesleyan University Volleyball vs DePauwW 3-0Streaming Video: https://www.northcoastnetwork.com/denison/
SUMMARY:Ohio Wesleyan University Volleyball vs DePauw
DTSTART:20241115T230000Z
DTEND:20241116T010000Z
END:VEVENT
END:VCALENDAR
