BEGIN:VCALENDAR
VERSION:2.0
PRODID:-//hacksw/handcal//NONSGML v1.0//EN
CALSCALE:GREGORIAN
BEGIN:VEVENT
UID:69eb13f3d4d21
DTSTAMP:20260424T065547Z
DESCRIPTION:[W] Ohio Wesleyan University Volleyball vs HanoverW 3-2Streaming Video: https://www.northcoastnetwork.com/ohiowesleyan/ https://www.battlingbishops.com/calendar.aspx?game_id=8422&amp\;sport_id=22
SUMMARY:Ohio Wesleyan University Volleyball vs Hanover
DTSTART:20231021T203000Z
DTEND:20231021T223000Z
END:VEVENT
END:VCALENDAR
