BEGIN:VCALENDAR
VERSION:2.0
PRODID:-//hacksw/handcal//NONSGML v1.0//EN
CALSCALE:GREGORIAN
BEGIN:VEVENT
UID:69e8f3554ed22
DTSTAMP:20260422T161205Z
DESCRIPTION:[W] Ohio Wesleyan University Volleyball vs HeidelbergW 3-0Streaming Video: https://www.northcoastnetwork.com/ohiowesleyan/
SUMMARY:Ohio Wesleyan University Volleyball vs Heidelberg
DTSTART:20240913T230000Z
DTEND:20240914T010000Z
END:VEVENT
END:VCALENDAR
