BEGIN:VCALENDAR
VERSION:2.0
PRODID:-//hacksw/handcal//NONSGML v1.0//EN
CALSCALE:GREGORIAN
BEGIN:VEVENT
UID:69e767d9e4f8b
DTSTAMP:20260421T120441Z
DESCRIPTION:[W] Ohio Wesleyan University Volleyball vs HiramW 3-0Streaming Video: https://www.northcoastnetwork.com/ohiowesleyan/
SUMMARY:Ohio Wesleyan University Volleyball vs Hiram
DTSTART:20241102T170000Z
DTEND:20241102T190000Z
END:VEVENT
END:VCALENDAR
