BEGIN:VCALENDAR
VERSION:2.0
PRODID:-//hacksw/handcal//NONSGML v1.0//EN
CALSCALE:GREGORIAN
BEGIN:VEVENT
UID:69e971bc2a60c
DTSTAMP:20260423T011124Z
DESCRIPTION:[L] Ohio Wesleyan University Volleyball vs HopeL 0-3Streaming Video: https://www.youtube.com/c/CalvinKnights
SUMMARY:Ohio Wesleyan University Volleyball vs Hope
DTSTART:20240907T143000Z
DTEND:20240907T163000Z
END:VEVENT
END:VCALENDAR
