BEGIN:VCALENDAR
VERSION:2.0
PRODID:-//hacksw/handcal//NONSGML v1.0//EN
CALSCALE:GREGORIAN
BEGIN:VEVENT
UID:69e9e74cb4044
DTSTAMP:20260423T093300Z
DESCRIPTION:[L] Ohio Wesleyan University Volleyball vs IthacaL 1-3Streaming Video: https://www.flovolleyball.tv/events/11225361-2023-ithaca-college-vs-ohio-wesleyan https://www.battlingbishops.com/calendar.aspx?game_id=8426&amp\;sport_id=22
SUMMARY:Ohio Wesleyan University Volleyball vs Ithaca
DTSTART:20231104T150000Z
DTEND:20231104T170000Z
END:VEVENT
END:VCALENDAR
