BEGIN:VCALENDAR
VERSION:2.0
PRODID:-//hacksw/handcal//NONSGML v1.0//EN
CALSCALE:GREGORIAN
BEGIN:VEVENT
UID:69ec26767793c
DTSTAMP:20260425T022702Z
DESCRIPTION:Ohio Wesleyan University Volleyball vs Lynchburg https://www.battlingbishops.com/calendar.aspx?game_id=8417&amp\;sport_id=22
SUMMARY:Ohio Wesleyan University Volleyball vs Lynchburg
DTSTART:20231007T170000Z
DTEND:20231007T190000Z
END:VEVENT
END:VCALENDAR
