BEGIN:VCALENDAR
VERSION:2.0
PRODID:-//hacksw/handcal//NONSGML v1.0//EN
CALSCALE:GREGORIAN
BEGIN:VEVENT
UID:69e852361cfb2
DTSTAMP:20260422T044438Z
DESCRIPTION:[W] Ohio Wesleyan University Volleyball vs Mount UnionW 3-1Streaming Video: https://athletics.cmu.edu/watchlive
SUMMARY:Ohio Wesleyan University Volleyball vs Mount Union
DTSTART:20240920T210000Z
DTEND:20240920T230000Z
END:VEVENT
END:VCALENDAR
