BEGIN:VCALENDAR
VERSION:2.0
PRODID:-//hacksw/handcal//NONSGML v1.0//EN
CALSCALE:GREGORIAN
BEGIN:VEVENT
UID:69e95f6580cb6
DTSTAMP:20260422T235309Z
DESCRIPTION:Ohio Wesleyan University Volleyball vs NCAC tournament championshipStreaming Video: https://depauwtigers.com/sports/2022/8/5/depauw-video-player-2.aspx https://www.battlingbishops.com/calendar.aspx?game_id=8691&amp\;sport_id=22
SUMMARY:Ohio Wesleyan University Volleyball vs NCAC tournament championship
DTSTART:20231111T190000Z
DTEND:20231111T210000Z
END:VEVENT
END:VCALENDAR
