BEGIN:VCALENDAR
VERSION:2.0
PRODID:-//hacksw/handcal//NONSGML v1.0//EN
CALSCALE:GREGORIAN
BEGIN:VEVENT
UID:69e9d53ae06a9
DTSTAMP:20260423T081554Z
DESCRIPTION:[L] Ohio Wesleyan University Volleyball vs North ParkL 2-3Streaming Video: https://www.facebook.com/prclasico/
SUMMARY:Ohio Wesleyan University Volleyball vs North Park
DTSTART:20240901T163000Z
DTEND:20240901T183000Z
END:VEVENT
END:VCALENDAR
