BEGIN:VCALENDAR
VERSION:2.0
PRODID:-//hacksw/handcal//NONSGML v1.0//EN
CALSCALE:GREGORIAN
BEGIN:VEVENT
UID:69ecbe4fb4206
DTSTAMP:20260425T131455Z
DESCRIPTION:[W] Ohio Wesleyan University Volleyball vs OberlinW 3-1Streaming Video: https://www.northcoastnetwork.com/ohiowesleyan/ https://www.battlingbishops.com/calendar.aspx?game_id=8415&amp\;sport_id=22
SUMMARY:Ohio Wesleyan University Volleyball vs Oberlin
DTSTART:20230930T170000Z
DTEND:20230930T190000Z
END:VEVENT
END:VCALENDAR
