BEGIN:VCALENDAR
VERSION:2.0
PRODID:-//hacksw/handcal//NONSGML v1.0//EN
CALSCALE:GREGORIAN
BEGIN:VEVENT
UID:69e8783c2f3fc
DTSTAMP:20260422T072652Z
DESCRIPTION:[L] Ohio Wesleyan University Volleyball vs OtterbeinL 1-3Streaming Video: https://www.northcoastnetwork.com/ohiowesleyan/
SUMMARY:Ohio Wesleyan University Volleyball vs Otterbein
DTSTART:20240918T223000Z
DTEND:20240919T003000Z
END:VEVENT
END:VCALENDAR
