BEGIN:VCALENDAR
VERSION:2.0
PRODID:-//hacksw/handcal//NONSGML v1.0//EN
CALSCALE:GREGORIAN
BEGIN:VEVENT
UID:69e9e78099f85
DTSTAMP:20260423T093352Z
DESCRIPTION:[W] Ohio Wesleyan University Volleyball vs RowanW 3-2Streaming Video: https://www.facebook.com/prclasico/
SUMMARY:Ohio Wesleyan University Volleyball vs Rowan
DTSTART:20240831T213000Z
DTEND:20240831T233000Z
END:VEVENT
END:VCALENDAR
