BEGIN:VCALENDAR
VERSION:2.0
PRODID:-//hacksw/handcal//NONSGML v1.0//EN
CALSCALE:GREGORIAN
BEGIN:VEVENT
UID:69e840b4962bd
DTSTAMP:20260422T032956Z
DESCRIPTION:[W] Ohio Wesleyan University Volleyball vs SusquehannaW 3-2Streaming Video: https://athletics.cmu.edu/watchlive
SUMMARY:Ohio Wesleyan University Volleyball vs Susquehanna
DTSTART:20240921T190000Z
DTEND:20240921T210000Z
END:VEVENT
END:VCALENDAR
