BEGIN:VCALENDAR
VERSION:2.0
PRODID:-//hacksw/handcal//NONSGML v1.0//EN
CALSCALE:GREGORIAN
BEGIN:VEVENT
UID:69e908b3ece08
DTSTAMP:20260422T174315Z
DESCRIPTION:[W] Ohio Wesleyan University Volleyball vs Texas LutheranW 3-2Streaming Video: https://www.northcoastnetwork.com/ohiowesleyan/
SUMMARY:Ohio Wesleyan University Volleyball vs Texas Lutheran
DTSTART:20240912T230000Z
DTEND:20240913T010000Z
END:VEVENT
END:VCALENDAR
