BEGIN:VCALENDAR
VERSION:2.0
PRODID:-//hacksw/handcal//NONSGML v1.0//EN
CALSCALE:GREGORIAN
BEGIN:VEVENT
UID:69eba4d953aed
DTSTAMP:20260424T171401Z
DESCRIPTION:[L] Ohio Wesleyan University Volleyball vs TransylvaniaL 1-3Streaming Video: https://boxcast.tv/channel/azmhqmpypa7txv85vpz5 https://www.battlingbishops.com/calendar.aspx?game_id=8418&amp\;sport_id=22
SUMMARY:Ohio Wesleyan University Volleyball vs Transylvania
DTSTART:20231014T180000Z
DTEND:20231014T200000Z
END:VEVENT
END:VCALENDAR
