BEGIN:VCALENDAR
VERSION:2.0
PRODID:-//hacksw/handcal//NONSGML v1.0//EN
CALSCALE:GREGORIAN
BEGIN:VEVENT
UID:69e8de1ee37cc
DTSTAMP:20260422T144134Z
DESCRIPTION:[L] Ohio Wesleyan University Volleyball vs Wisconsin-PlattevilleL 0-3Streaming Video: https://www.northcoastnetwork.com/ohiowesleyan/
SUMMARY:Ohio Wesleyan University Volleyball vs Wisconsin-Platteville
DTSTART:20240914T143000Z
DTEND:20240914T163000Z
END:VEVENT
END:VCALENDAR
