BEGIN:VCALENDAR
VERSION:2.0
PRODID:-//hacksw/handcal//NONSGML v1.0//EN
CALSCALE:GREGORIAN
BEGIN:VEVENT
UID:69e971c87ccc0
DTSTAMP:20260423T011136Z
DESCRIPTION:[L] Ohio Wesleyan University Volleyball vs WittenbergL 1-3Streaming Video: https://depauwtigers.com/sports/2022/8/5/depauw-video-player-2.aspx https://www.battlingbishops.com/calendar.aspx?game_id=8427&amp\;sport_id=22
SUMMARY:Ohio Wesleyan University Volleyball vs Wittenberg
DTSTART:20231110T220000Z
DTEND:20231111T000000Z
END:VEVENT
END:VCALENDAR
