BEGIN:VCALENDAR
VERSION:2.0
PRODID:-//hacksw/handcal//NONSGML v1.0//EN
CALSCALE:GREGORIAN
BEGIN:VEVENT
UID:69eb503b67cf1
DTSTAMP:20260424T111259Z
DESCRIPTION:[W] Ohio Wesleyan University Volleyball vs WoosterW 3-0Streaming Video: https://www.northcoastnetwork.com/ohiowesleyan/ https://www.battlingbishops.com/calendar.aspx?game_id=8420&amp\;sport_id=22
SUMMARY:Ohio Wesleyan University Volleyball vs Wooster
DTSTART:20231018T230000Z
DTEND:20231019T010000Z
END:VEVENT
END:VCALENDAR
