BEGIN:VCALENDAR
VERSION:2.0
PRODID:-//hacksw/handcal//NONSGML v1.0//EN
CALSCALE:GREGORIAN
BEGIN:VEVENT
UID:69ead6182727c
DTSTAMP:20260424T023152Z
DESCRIPTION:[L] Ohio Wesleyan University Women's Basketball at CapitalL 58-62Streaming Video: https://athletics.capital.edu/sports/2020/4/27/watch-wbb.aspx
SUMMARY:Ohio Wesleyan University Women's Basketball at Capital
DTSTART:20241216T220000Z
DTEND:20241217T000000Z
END:VEVENT
END:VCALENDAR
