BEGIN:VCALENDAR
VERSION:2.0
PRODID:-//hacksw/handcal//NONSGML v1.0//EN
CALSCALE:GREGORIAN
BEGIN:VEVENT
UID:69e9987f9d8c1
DTSTAMP:20260423T035647Z
DESCRIPTION:[W] Ohio Wesleyan University Women's Basketball at DefianceW 101-44Streaming Video: https://boxcast.tv/view/womens-basketball-vs-ohio-wesleyan-xybrlcrwzklpxukprmd1?_gl=1*jdr2da*_ga*NzQ5NjQ0OTUuMTY2MDA1MzM3Mg..*_ga_PXBBF7HVWQ*MTY5ODc2OTgyMy4xOTYuMS4xNjk4NzY5OTQ5LjAuMC4w https://www.battlingbishops.com/calendar.aspx?game_id=8659&amp\;sport_id=14
SUMMARY:Ohio Wesleyan University Women's Basketball at Defiance
DTSTART:20231109T000000Z
DTEND:20231109T020000Z
END:VEVENT
END:VCALENDAR
