BEGIN:VCALENDAR
VERSION:2.0
PRODID:-//hacksw/handcal//NONSGML v1.0//EN
CALSCALE:GREGORIAN
BEGIN:VEVENT
UID:69e8374c0c8c9
DTSTAMP:20260422T024948Z
DESCRIPTION:[W] Ohio Wesleyan University Women's Basketball at ElizabethtownW 72-58
SUMMARY:Ohio Wesleyan University Women's Basketball at Elizabethtown
DTSTART:20241109T200000Z
DTEND:20241109T220000Z
END:VEVENT
END:VCALENDAR
