BEGIN:VCALENDAR
VERSION:2.0
PRODID:-//hacksw/handcal//NONSGML v1.0//EN
CALSCALE:GREGORIAN
BEGIN:VEVENT
UID:69e9ac77012db
DTSTAMP:20260423T052159Z
DESCRIPTION:[W] Ohio Wesleyan University Women's Basketball at HeidelbergW 87-42Streaming Video: https://boxcast.tv/view/wbb-vs-ohio-wesleyan-yk2jtu1aykaqiw4ztxhb
SUMMARY:Ohio Wesleyan University Women's Basketball at Heidelberg
DTSTART:20241123T190000Z
DTEND:20241123T210000Z
END:VEVENT
END:VCALENDAR
