BEGIN:VCALENDAR
VERSION:2.0
PRODID:-//hacksw/handcal//NONSGML v1.0//EN
CALSCALE:GREGORIAN
BEGIN:VEVENT
UID:69ebb52e51544
DTSTAMP:20260424T182342Z
DESCRIPTION:[W] Ohio Wesleyan University Women's Basketball at KenyonW 68-31Streaming Video: https://www.northcoastnetwork.com/kenyon/?B=1510246
SUMMARY:Ohio Wesleyan University Women's Basketball at Kenyon
DTSTART:20250115T230000Z
DTEND:20250116T010000Z
END:VEVENT
END:VCALENDAR
