BEGIN:VCALENDAR
VERSION:2.0
PRODID:-//hacksw/handcal//NONSGML v1.0//EN
CALSCALE:GREGORIAN
BEGIN:VEVENT
UID:69e83e191e888
DTSTAMP:20260422T031849Z
DESCRIPTION:[L] Ohio Wesleyan University Women's Basketball at MuskingumL 71-77Streaming Video: https://fightingmuskies.com/sports/wbkb/2023-24/videos/ohio_wesleyan https://www.battlingbishops.com/calendar.aspx?game_id=8666&amp\;sport_id=14
SUMMARY:Ohio Wesleyan University Women's Basketball at Muskingum
DTSTART:20231129T230000Z
DTEND:20231130T010000Z
END:VEVENT
END:VCALENDAR
