BEGIN:VCALENDAR
VERSION:2.0
PRODID:-//hacksw/handcal//NONSGML v1.0//EN
CALSCALE:GREGORIAN
BEGIN:VEVENT
UID:69e908f90b1f8
DTSTAMP:20260422T174425Z
DESCRIPTION:[W] Ohio Wesleyan University Women's Basketball at NazarethW 80-67Streaming Video: https://www.empire8network.com/nazareth/
SUMMARY:Ohio Wesleyan University Women's Basketball at Nazareth
DTSTART:20241116T230000Z
DTEND:20241117T010000Z
END:VEVENT
END:VCALENDAR
