BEGIN:VCALENDAR
VERSION:2.0
PRODID:-//hacksw/handcal//NONSGML v1.0//EN
CALSCALE:GREGORIAN
BEGIN:VEVENT
UID:69eb5044ab387
DTSTAMP:20260424T111308Z
DESCRIPTION:[W] Ohio Wesleyan University Women's Basketball at OberlinW 83-44Streaming Video: https://oberlinsportsnetwork.com/
SUMMARY:Ohio Wesleyan University Women's Basketball at Oberlin
DTSTART:20250104T210000Z
DTEND:20250104T230000Z
END:VEVENT
END:VCALENDAR
